BEGIN:VCALENDAR
VERSION:2.0
PRODID:-//CapaKaspa - ECPv4.6.18//NONSGML v1.0//EN
CALSCALE:GREGORIAN
METHOD:PUBLISH
X-WR-CALNAME:CapaKaspa
X-ORIGINAL-URL:http://www.capakaspa.info
X-WR-CALDESC:Events for CapaKaspa
BEGIN:VEVENT
DTSTART;VALUE=DATE:20180620
DTEND;VALUE=DATE:20180625
DTSTAMP:20180623T075838
CREATED:20180405T145942Z
LAST-MODIFIED:20180622T185520Z
UID:256221-1529452800-1529884799@www.capakaspa.info
SUMMARY:Paris Grand Chess Tour 2018
DESCRIPTION:La Paris Grand Chess Tour 2018 se déroule du 20 au 24 juin 2018 à Paris. C’est la deuxième étape en parties rapides et Blitz du Grand Chess Tour 2018.  \nSommaire : Présentation – Le Direct – Programme et résultats \nPrésentation du Paris Grand Chess Tour 2018\nLe Paris Grand Chess Tour est la deuxième épreuve en parties rapides et blitz du Grand Chess Tour 2018. La dernière édition en 2017 a été remportée par le Champion du Monde Magnus Carlsen devant le numéro 1 français Maxime Vachier-Lagrave après départage. Ce tournoi fait suite au Your Next Move Grand Chess Tour 2018 remporté par Wesley So. \nL’épreuve sera diffusée sur la chaîne française Canal+ Sport. Pour faciliter la diffusion les parties se dérouleront dans les Studios de Canal+ à Boulogne-Billancourt et ne seront pas ouvertes au public. Pour les fans\, les cinq jours de tournoi seront retransmis en direct et en intégralité sur Dailymotion de 14h à 18h30. \nLes abonnées de Canal+ Sport pourront également redécouvrir chaque soir à 23h30 les meilleurs moments de la journée dans un magazine spécial. On retrouvera à la présentation la journaliste Pauline Sanzey. Elle sera accompagnée de trois spécialistes d’échecs : Yannick Pelletier\, grand maître international ; Almira Skripchenko\, grand maître international six fois championne de France et Jean-Baptiste Mullon\, maître international. \nListe des participants\n\n\n\nN°\nNom\nPays\nElo\n\n\n\n\n1\nFabiano Caruana\nEtats-Unis\n2816\n\n\n2\nShakhriyar Mamedyarov\nAzerbaïdjan\n2808\n\n\n3\nVladimir Kramnik (invité)\nRussie\n2792\n\n\n4\nMaxime Vachier-Lagrave\nFrance\n2789\n\n\n5\nSergey Karjakin\nRussie\n2782\n\n\n6\nWesley So\nEtats-Unis\n2778\n\n\n7\nHikaru Nakamura\nEtats-Unis\n2769\n\n\n8\nAlexander Grischuk\nRussie\n2766\n\n\n9\nLevon Aronian\nArménie\n2764\n\n\n10\nViswanathan Anand\nInde\n2759\n\n\n\nRèglement et cadences\nUn tournoi rapide en 9 rondes à la cadence de 25 minutes et un « délai » de 10 secondes par coup. La victoire vaut 2 points et la nulle 1 point. \nPuis un tournoi de blitz en 18 rondes à la cadence de 5 minutes et un délai de 3 secondes par coup. La victoire vaut 1 point et la nulle 0\,5 point. \nLe départage pour la victoire finale se déroule en deux parties rapides de 10 minutes chacun et un délai de 5 secondes par coup. En cas d’égalité\, deux parties blitz en 5 minutes chacun et un délai de 3 secondes par coup. Si l’égalité persiste on aura recours à un blitz «mort subite» avec 5 minutes pour les Blancs\, 4 pour les Noirs\, mais la nulle suffit aux Noirs pour l’emporter.\n\n\n\n     (adsbygoogle = window.adsbygoogle || []).push({});\n \nDirect\n\nSuivez la retransmission en Direct du Paris Grand Chess Tour 2018 sur CapaKaspa en 2 formats avec Chess24.com : \nCompact (plus adapté aux mobiles) \nLarge (plus adapté pour consultation sur ordinateur). \nL’événement sera couvert et retransmis par Canal+ Sport et diffusé également sur Dailymotion. \nProgramme et résultats\nRapide (20 – 22 juin)\n\n\n\nHeure\n20 juin\n21 juin\n22 juin\n\n\n\n\n14.00\nRonde 1\nRonde 4\nRonde 7\n\n\n15.30\nRonde 2\nRonde 5\nRonde 8\n\n\n17.00\nRonde 3\nRonde 6\nRonde 9\n\n\n18.30\nFin\nFin\nFin\n\n\n\nClassement après les parties rapides\n\n\n\n1\n So\, Wesley\n12/18\n2783\n\n\n2\n Nakamura\, Hikaru\n11/18\n2803\n\n\n3\n Karjakin\, Sergey\n11/18\n2785\n\n\n4\n Vachier-Lagrave\, Maxime\n9/18\n2794\n\n\n5\n Anand\, Viswanathan\n9/18\n2775\n\n\n6\n Aronian\, Levon\n9/18\n2789\n\n\n7\n Caruana\, Fabiano\n8/18\n2790\n\n\n8\n Kramnik\, Vladimir\n7/18\n2787\n\n\n9\n Mamedyarov\, Shakhriyar\n7/18\n2788\n\n\n10\n Grischuk\, Alexander\n7/18\n2789\n\n\n\nComme à Louvain\, Wesley So termine en tête les parties rapides à Paris \nBlitz (23 – 24 juin)\n\n\n\nHeure\n23 juin\nHeure\n24 juin\n\n\n\n\n14.00\nRonde 1\n12.00\nRonde 10\n\n\n14.30\nRonde 2\n12.30\nRonde 11\n\n\n15.00\nRonde 3\n13.00\nRonde 12\n\n\n15.30\nRonde 4\n13.30\nRonde 13\n\n\n16.00\nRonde 5\n14.00\nRonde 14\n\n\n16.30\nRonde 6\n14.30\nRonde 15\n\n\n17.00\nRonde 7\n15.00\nRonde 16\n\n\n17.30\nRonde 8\n15.30\nRonde 17\n\n\n18.00\nRonde 9\n16.00\nRonde 18\n\n\n18.30\nFin\n16.30\nPlayoffs (Remise des prix à 18.30)\n\n\n\n
URL:http://www.capakaspa.info/evenement/paris-grand-chess-tour-2018/
LOCATION:2 Rue de Silly\, Boulogne-Billancourt\, 92100 \, France
ATTACH;FMTTYPE=image/jpeg:http://www.capakaspa.info/wp-content/uploads/2018/04/paris-grand-chess-tour-2018.jpg
END:VEVENT
BEGIN:VEVENT
DTSTART;VALUE=DATE:20180810
DTEND;VALUE=DATE:20180816
DTSTAMP:20180623T075838
CREATED:20180623T063628Z
LAST-MODIFIED:20180623T063628Z
UID:256224-1533859200-1534377599@www.capakaspa.info
SUMMARY:Saint Louis Rapide & Blitz (Grand Chess Tour) 2018
DESCRIPTION:La Saint Louis Rapide & Blitz 2018 se déroule au mois d’août à Saint Louis aux Etats-Unis. C’est la troisième étape du Grand Chess Tour 2018.  \nSommaire : Présentation – Le Direct – Programme et résultats \nPrésentation du Saint Louis Rapide & Blitz 2018\nLe Saint Louis Rapide & Blitz est une épreuve en rapide et Blitz du Grand Chess Tour. Cette année il précédera la Sinquefield Cup 2018\, premier tournoi en cadence classique qui se déroule aussi à Saint Louis au Chess Club and Scholastic Center of Saint Louis. \nL’année dernière\, le Saint Louis Rapide & Blitz 2017 a été remporté par Levon Aronian devant Sergey Karjakin et Hikaru Nakamura. \nListe des participants (à confirmer)\n\n\n\nN°\nNom\nPays\nElo\n\n\n\n\n 1\nFabiano Caruana\nEtats-Unis\n\n\n\n 2\nWesley So\nEtats-Unis\n\n\n\n 3\nMaxime Vachier-Lagrave\nFrance\n\n\n\n 4\nViswanathan Anand\nInde\n\n\n\n 5\nHikaru Nakamura\nEtats-Unis\n\n\n\n 6\nLevon Aronian\nArménie\n\n\n\n 7\nShakhriyar Mamedyarov\nAzerbaïdjan\n\n\n\n 8\nAlexander Grischuk\nRussie\n\n\n\n 9\nSergey Karjakin\nRussie\n\n\n\n 10\n(invité)\nRussie\n\n\n\n\nRèglement et cadences\nUn tournoi rapide en 9 rondes à la cadence de 25 minutes et un « délai » de 10 secondes par coup. La victoire vaut 2 points et la nulle 1 point. \nPuis un tournoi de blitz en 18 rondes à la cadence de 5 minutes et un délai de 3 secondes par coup. La victoire vaut 1 point et la nulle 0\,5 point. \nLe départage pour la victoire finale se déroule en deux parties rapides de 10 minutes chacun et un délai de 5 secondes par coup. En cas d’égalité\, deux parties blitz en 5 minutes chacun et un délai de 3 secondes par coup. Si l’égalité persiste on aura recours à un blitz «mort subite» avec 5 minutes pour les Blancs\, 4 pour les Noirs\, mais la nulle suffit aux Noirs pour l’emporter.\n\n\n\n     (adsbygoogle = window.adsbygoogle || []).push({});\n \nDirect\n\nSuivez la retransmission en Direct du Saint Louis Rapide & Blitz sur CapaKaspa en 2 formats avec Chess24.com : \nCompact (plus adapté aux mobiles) \nLarge (plus adapté pour consultation sur ordinateur). \nLes 5 journées de parties devraient débuter à 19h00 (heure de Paris). \nProgramme et résultats\nProgramme Rapide (11 – 13 août)\n\n\n\nHeure (Paris)\n11 août\n 12 août\n 13 août\n\n\n\n\n19:00\nRonde 1\nRonde 4\nRonde 7\n\n\n20:30\nRonde 2\nRonde 5\nRonde 8\n\n\n22:00\nRonde 3\nRonde 6\nRonde 9\n\n\n\nProgramme Blitz (14 – 15 août)\n\n\n\nHeure (Paris)\n14 août\nHeure\n15 août\n\n\n\n\n19:00\nRonde 1\n19:00\nRonde 10\n\n\n19:30\nRonde 2\n19:30\nRonde 11\n\n\n20:00\nRonde 3\n20:00\nRonde 12\n\n\n20:30\nRonde 4\n20:30\nRonde 13\n\n\n21:00\nRonde 5\n21:00\nRonde 14\n\n\n21:30\nRonde 6\n21:30\nRonde 15\n\n\n22:00\nRonde 7\n22:00\nRonde 16\n\n\n22:30\nRonde 8\n22:30\nRonde 17\n\n\n23:00\nRonde 9\n23:00\nRonde 18\n\n\n\n
URL:http://www.capakaspa.info/evenement/saint-louis-rapide-blitz-grand-chess-tour-2018/
LOCATION:4657 Maryland Avenue\, Saint-Louis\, LA\, 63108\, USA
ATTACH;FMTTYPE=image/jpeg:http://www.capakaspa.info/wp-content/uploads/2018/06/saint-louis-rapide-blitz-2018-grand-chess-tour.jpg
END:VEVENT
BEGIN:VEVENT
DTSTART;VALUE=DATE:20181109
DTEND;VALUE=DATE:20181129
DTSTAMP:20180623T075838
CREATED:20171203T112358Z
LAST-MODIFIED:20180328T194520Z
UID:255528-1541721600-1543449599@www.capakaspa.info
SUMMARY:Championnat du Monde d'échecs 2018
DESCRIPTION:Le Championnat du Monde d’échecs 2018 est un match en 12 rondes organisé par la Fédération Internationale Des Echecs qui opposera le norvégien Magnus Carlsen\, le champion en titre\, à Fabiano Caruana son challenger et vainqueur du Tournoi des Candidats 2018. \nSommaire : Présentation – Le Direct – Programme et résultats – Les Vidéos \nPrésentation\nAprès New-York en 2016\, cette nouvelle édition du Championnat du Monde se déroulera à Londres du 8 au 28 novembre 2018. \nMagnus Carlsen s’est emparé du titre de Champion du Monde en 2013 face à Viswanathan Anand\, l’a défendu en 2014 dans un match revanche contre le joueur indien et l’a conservé en 2016 à New-York face à Sergey Karjakin. Son Challenger pour cette édition 2018 est le Grand-Maître américain\, Fabiano Caruana\, vainqueur au mois de mars du Tournoi des Candidats 2018. \nWoody Harrelson jour le premier coup de la partie 1 du Championnat du Monde d’échecs 2016. \nRevivre le Championnat du Monde d’échecs 2016… \nPour l’occasion\, redécouvrez aussi en images tous les Champions du Monde d’échecs.\n\n\n\n     (adsbygoogle = window.adsbygoogle || []).push({});\n \nLe Direct\nWorldchess conserve l’exclusivité de la diffusion du Championnat du Monde 2018. Nous attendrons donc de connaître toutes les modalités de diffusion d’ici le mois de novembre 2018. \nLa retransmission des coups des parties est disponible gratuitement sur CapaKaspa en 2 formats : \nCompact (plus adapté aux mobiles) \nLarge (plus adapté pour consultation sur ordinateur\, avec fil Twitter) \n\nProgramme et résultats du Championnat du Monde d’échecs 2018\nLe programme des 12 parties du Championnat et les liens vers les compte-rendus à retrouver dans le tableau ci-dessous. \n\n\n\nDate\n\nMagnus Carlsen\nFabiano Caruana\n\n\n\n\n08/11\nConférence de presse et cérémonie d’ouverture\n\n\n\n09/11\nPartie 1\n\n\n\n\n10/11\nPartie 2\n\n\n\n\n11/11\nJour de repos\n\n\n\n12/11\nPartie 3\n\n\n\n\n13/11\nPartie 4\n\n\n\n\n14/11\nJour de repos\n\n\n\n15/11\nPartie 5\n\n\n\n\n16/11\nPartie 6\n\n\n\n\n17/11\nJour de repos\n\n\n\n18/11\nPartie 7\n\n\n\n\n19/11\nPartie 8\n\n\n\n\n20/11\nJour de repos\n\n\n\n21/11\nPartie 9\n\n\n\n\n22/11\nPartie 10\n\n\n\n\n23/11\nJour de repos\n\n\n\n24/11\nPartie 11\n\n\n\n\n25/11\nJour de repos\n\n\n\n26/11\nPartie 12\n\n\n\n\n27/11\nJour de repos\n\n\n\n28/11\nTie breaks\n\n\n\n\nTotal final\n\n \n\n\n\n\n
URL:http://www.capakaspa.info/evenement/championnat-du-monde-echecs-2018/
LOCATION:Londres\, Royaume-Uni
ATTACH;FMTTYPE=image/jpeg:http://www.capakaspa.info/wp-content/uploads/2017/12/championnat-monde-echecs-2018-carlsen-caruana.jpg
END:VEVENT
END:VCALENDAR